BEGIN:VCALENDAR
VERSION:2.0
PRODID:-//www.tcadr.org//NONSGML kigkonsult.se iCalcreator 2.30.10//
CALSCALE:GREGORIAN
METHOD:PUBLISH
UID:3251b690-535a-4c1e-9752-78668673e3fc
X-WR-CALDESC:Our agency is closed but the 24/7 hotline is open!
X-WR-RELCALID:faaf4cee22d75fc596b9a61d5ada2b38
X-WR-TIMEZONE:America/New_York
BEGIN:VTIMEZONE
TZID:America/New_York
BEGIN:STANDARD
TZNAME:EST
DTSTART:20251102T020000
TZOFFSETFROM:-0400
TZOFFSETTO:-0500
RDATE:20261101T020000
END:STANDARD
BEGIN:DAYLIGHT
TZNAME:EDT
DTSTART:20250309T020000
TZOFFSETFROM:-0500
TZOFFSETTO:-0400
RDATE:20260308T020000
RDATE:20270314T020000
END:DAYLIGHT
END:VTIMEZONE
BEGIN:VEVENT
UID:c7e0e09e-64a6-42e1-a0e6-c8050527c082
DTSTAMP:20260424T225008Z
DESCRIPTION:Our agency is closed but the 24/7 hotline is open!
DTSTART;TZID=America/New_York:20260216T060000
DTEND;TZID=America/New_York:20260216T060001
LOCATION:
SUMMARY:Agency Closed/ Hotline Open
END:VEVENT
END:VCALENDAR
