BEGIN:VCALENDAR
VERSION:2.0
PRODID:-//www.tcadr.org//NONSGML kigkonsult.se iCalcreator 2.30.10//
CALSCALE:GREGORIAN
METHOD:PUBLISH
UID:1740e843-0bc5-49ea-93e6-63d85440bc0f
X-WR-CALDESC:Wellness involves being aware of ourselves as whole people\, i
 ncluding a sense of balance and contentment. It is the feeling that things
  are going well for us today and can continue to go well for us tomorrow. 
 It is the belief that we have meaningful relationships and a sense of mean
 ing and purpose.
X-WR-RELCALID:357ae5edf6adf2e2abd696b8d8c3d0cb
X-WR-TIMEZONE:America/New_York
BEGIN:VTIMEZONE
TZID:America/New_York
BEGIN:STANDARD
TZNAME:EST
DTSTART:20251102T020000
TZOFFSETFROM:-0400
TZOFFSETTO:-0500
RDATE:20261101T020000
END:STANDARD
BEGIN:DAYLIGHT
TZNAME:EDT
DTSTART:20250309T020000
TZOFFSETFROM:-0500
TZOFFSETTO:-0400
RDATE:20260308T020000
RDATE:20270314T020000
END:DAYLIGHT
END:VTIMEZONE
BEGIN:VEVENT
UID:184495cf-5dc8-4f22-addd-a05fd4f4e1ed
DTSTAMP:20260423T122517Z
DESCRIPTION:Wellness involves being aware of ourselves as whole people\, in
 cluding a sense of balance and contentment. It is the feeling that things 
 are going well for us today and can continue to go well for us tomorrow. I
 t is the belief that we have meaningful relationships and a sense of meani
 ng and purpose.
DTSTART;TZID=America/New_York:20260306T100000
DTEND;TZID=America/New_York:20260306T113000
LOCATION:Apshawa Fire Station \, 666 Macopin Road\, West Milford\, NJ 07480
  US
SUMMARY:8 Dimensions of Wellness
END:VEVENT
END:VCALENDAR
