BEGIN:VCALENDAR
VERSION:2.0
PRODID:-//www.tcadr.org//NONSGML kigkonsult.se iCalcreator 2.30.10//
CALSCALE:GREGORIAN
METHOD:PUBLISH
UID:fccf908d-5c98-49ec-a78d-3ed04be5e89d
X-WR-CALDESC:Being in pain is challenging and does not have to be a normal 
 part of aging. Join us for this workshop on how to talk to your doctor abo
 ut pain and how you can manage it.\n\n*Wellness Kit Giveaway for Bergen an
 d Passaic County Older Adults**
X-WR-RELCALID:c237772e61b7b6e72e40564f7bb83d57
X-WR-TIMEZONE:America/New_York
BEGIN:VTIMEZONE
TZID:America/New_York
BEGIN:STANDARD
TZNAME:EST
DTSTART:20251102T020000
TZOFFSETFROM:-0400
TZOFFSETTO:-0500
RDATE:20261101T020000
END:STANDARD
BEGIN:DAYLIGHT
TZNAME:EDT
DTSTART:20260308T020000
TZOFFSETFROM:-0500
TZOFFSETTO:-0400
RDATE:20270314T020000
END:DAYLIGHT
END:VTIMEZONE
BEGIN:VEVENT
UID:74f7b865-350b-45e1-a52a-6d2bfe7f3692
DTSTAMP:20260423T123454Z
DESCRIPTION:Being in pain is challenging and does not have to be a normal p
 art of aging. Join us for this workshop on how to talk to your doctor abou
 t pain and how you can manage it.\n\n*Wellness Kit Giveaway for Bergen and
  Passaic County Older Adults**
DTSTART;TZID=America/New_York:20260310T103000
DTEND;TZID=America/New_York:20260310T113000
LOCATION:Clifton Senior Center \, 900 Clifton ave\, Clifton\, NJ 07013 US
SUMMARY:Managing Pain to Have a Good Life
END:VEVENT
END:VCALENDAR
