BEGIN:VCALENDAR
VERSION:2.0
PRODID:-//www.tcadr.org//NONSGML kigkonsult.se iCalcreator 2.30.10//
CALSCALE:GREGORIAN
METHOD:PUBLISH
UID:2d9db217-1236-4bfa-a1a5-6068cff0faf6
X-WR-CALDESC:Passaic County Older Adults... Put Life Back into Your Life.\n
 Consider a TAKE CONTROL OF YOUR HEALTH FREE Workshop developed by Stanford
  University.\n\nFree book. Gift card and certificate on completion of at l
 east 4 sessions!\n\nAre you an adult (over 55 yrs.’) with an ongoing healt
 h condition or a caregiver of a person with a chronic disease?\nYou will g
 et the support you need\, find practical ways to deal with pain and fatigu
 e\, discover better nutrition and exercise choices\, understand new treatm
 ent choices\, and learn better ways to talk with your doctor and family ab
 out your health.\n\nIf you have conditions such as diabetes\, arthritis\, 
 high blood pressure\, heart disease\, chronic pain\, depression\, anxiety\
 , or addictions\, this workshop can help you take charge of your life.\n\n
 Sign Up Now. Spaces Are Limited.\nJoin a free 2-hour Passaic County Worksh
 op\, held each week for six weeks.\nLearn from trained volunteer leaders w
 ith health conditions themselves.\nSet your own goals and make a step-by-s
 tep plan to improve your health—and your life.
X-WR-RELCALID:5c412bdf46c0cc4bc9d4c8f1df4c877e
X-WR-TIMEZONE:America/New_York
BEGIN:VTIMEZONE
TZID:America/New_York
BEGIN:STANDARD
TZNAME:EST
DTSTART:20251102T020000
TZOFFSETFROM:-0400
TZOFFSETTO:-0500
RDATE:20261101T020000
END:STANDARD
BEGIN:DAYLIGHT
TZNAME:EDT
DTSTART:20260308T020000
TZOFFSETFROM:-0500
TZOFFSETTO:-0400
RDATE:20270314T020000
END:DAYLIGHT
END:VTIMEZONE
BEGIN:VEVENT
UID:2b09e9ad-52cf-45f5-99cf-ad7e3ef71566
DTSTAMP:20260423T122427Z
DESCRIPTION:Passaic County Older Adults... Put Life Back into Your Life.\nC
 onsider a TAKE CONTROL OF YOUR HEALTH FREE Workshop developed by Stanford 
 University.\n\nFree book. Gift card and certificate on completion of at le
 ast 4 sessions!\n\nAre you an adult (over 55 yrs.’) with an ongoing health
  condition or a caregiver of a person with a chronic disease?\nYou will ge
 t the support you need\, find practical ways to deal with pain and fatigue
 \, discover better nutrition and exercise choices\, understand new treatme
 nt choices\, and learn better ways to talk with your doctor and family abo
 ut your health.\n\nIf you have conditions such as diabetes\, arthritis\, h
 igh blood pressure\, heart disease\, chronic pain\, depression\, anxiety\,
  or addictions\, this workshop can help you take charge of your life.\n\nS
 ign Up Now. Spaces Are Limited.\nJoin a free 2-hour Passaic County Worksho
 p\, held each week for six weeks.\nLearn from trained volunteer leaders wi
 th health conditions themselves.\nSet your own goals and make a step-by-st
 ep plan to improve your health—and your life.
DTSTART;TZID=America/New_York:20260311T103000
DTEND;TZID=America/New_York:20260311T120000
LOCATION:Little Falls Civic Center 19 Warren Street\, Little Falls
SUMMARY:Take Control of Your Health
END:VEVENT
END:VCALENDAR
