BEGIN:VCALENDAR
VERSION:2.0
PRODID:-//www.tcadr.org//NONSGML kigkonsult.se iCalcreator 2.30.10//
CALSCALE:GREGORIAN
METHOD:PUBLISH
UID:8b31461f-60de-4cfa-ae69-d9ec4bb2e4a4
X-WR-CALDESC:Parents Who Host\, Lose the Most” is a powerful\, eye‑opening 
 presentation designed to help parents understand the real risks behind all
 owing underage drinking—even in your own home. Through relatable stories\,
  surprising facts\, and practical guidance\, this session breaks down the 
 myths (“They’re safer if they drink here…”) and highlights the real‑world 
 consequences that can affect teens\, families\, and entire communities.
X-WR-RELCALID:bc4a9e67c87ce7b963123032c694e27c
X-WR-TIMEZONE:America/New_York
BEGIN:VTIMEZONE
TZID:America/New_York
BEGIN:STANDARD
TZNAME:EST
DTSTART:20251102T020000
TZOFFSETFROM:-0400
TZOFFSETTO:-0500
RDATE:20261101T020000
END:STANDARD
BEGIN:DAYLIGHT
TZNAME:EDT
DTSTART:20260308T020000
TZOFFSETFROM:-0500
TZOFFSETTO:-0400
RDATE:20270314T020000
END:DAYLIGHT
END:VTIMEZONE
BEGIN:VEVENT
UID:1d9c5f7b-1e7e-4c3f-93ea-8122668e58fa
DTSTAMP:20260424T154213Z
DESCRIPTION:Parents Who Host\, Lose the Most” is a powerful\, eye‑opening p
 resentation designed to help parents understand the real risks behind allo
 wing underage drinking—even in your own home. Through relatable stories\, 
 surprising facts\, and practical guidance\, this session breaks down the m
 yths (“They’re safer if they drink here…”) and highlights the real‑world c
 onsequences that can affect teens\, families\, and entire communities.
DTSTART;TZID=America/New_York:20260326T183000
DTEND;TZID=America/New_York:20260326T200000
LOCATION:https://teams.microsoft.com/meet/21872128022813?p=mCa24zWCUJ82v3TG
 O7
SUMMARY:Parents Who Host Lose the Most: Westwood
END:VEVENT
END:VCALENDAR
