BEGIN:VCALENDAR
VERSION:2.0
PRODID:-//www.tcadr.org//NONSGML kigkonsult.se iCalcreator 2.30.10//
CALSCALE:GREGORIAN
METHOD:PUBLISH
UID:802b68c5-dfe9-4704-9553-dd7d04a283ad
X-WR-CALDESC:Join us for 12 two-hour sessions that help parents build stron
 g\, loving connections with their children from infancy through adolescenc
 e. Participants gain confidence\, improve parent-child relationships\, and
  learn practical skills for every stage of development. The program is rec
 ognized countywide and statewide for being cost-efficient\, results-orient
 ed\, and parent-friendly. A certificate of completion is awarded at the en
 d of the series.\n\n**Program cost is $300. Scholarships are available for
  Bergen County residents.**
X-WR-RELCALID:b02e4870a8c541db5f0c6548bc7e8857
X-WR-TIMEZONE:America/New_York
BEGIN:VTIMEZONE
TZID:America/New_York
BEGIN:STANDARD
TZNAME:EST
DTSTART:20251102T020000
TZOFFSETFROM:-0400
TZOFFSETTO:-0500
RDATE:20261101T020000
END:STANDARD
BEGIN:DAYLIGHT
TZNAME:EDT
DTSTART:20260308T020000
TZOFFSETFROM:-0500
TZOFFSETTO:-0400
RDATE:20270314T020000
END:DAYLIGHT
END:VTIMEZONE
BEGIN:VEVENT
UID:752080bf-b666-4c20-bb56-85344e3a7a1d
DTSTAMP:20260424T140031Z
DESCRIPTION:Join us for 12 two-hour sessions that help parents build strong
 \, loving connections with their children from infancy through adolescence
 . Participants gain confidence\, improve parent-child relationships\, and 
 learn practical skills for every stage of development. The program is reco
 gnized countywide and statewide for being cost-efficient\, results-oriente
 d\, and parent-friendly. A certificate of completion is awarded at the end
  of the series.\n\n**Program cost is $300. Scholarships are available for 
 Bergen County residents.**
DTSTART;TZID=America/New_York:20260408T121500
DTEND;TZID=America/New_York:20260408T141500
LOCATION:Microsoft Teams
SUMMARY:Every Parent Influences Children (EPIC) Parenting Program (Spring C
 ycle)
END:VEVENT
END:VCALENDAR
