BEGIN:VCALENDAR
VERSION:2.0
PRODID:-//www.tcadr.org//NONSGML kigkonsult.se iCalcreator 2.30.10//
CALSCALE:GREGORIAN
METHOD:PUBLISH
UID:446663ab-3ada-44cc-9065-2db9242975d6
X-WR-CALDESC:📸Speak Out Through Your Lens!\nBergen County teens are teaming
  up for an awesome Photovoice project where your pictures tell the real st
 ory about substance use in our communities.\nGot something to say? Snap it
 . Share it. Let your voice make an impact.
X-WR-RELCALID:ae88c3087917e514a0b230dc6f9a8354
X-WR-TIMEZONE:America/New_York
BEGIN:VTIMEZONE
TZID:America/New_York
BEGIN:STANDARD
TZNAME:EST
DTSTART:20251102T020000
TZOFFSETFROM:-0400
TZOFFSETTO:-0500
RDATE:20261101T020000
END:STANDARD
BEGIN:DAYLIGHT
TZNAME:EDT
DTSTART:20260308T020000
TZOFFSETFROM:-0500
TZOFFSETTO:-0400
RDATE:20270314T020000
END:DAYLIGHT
END:VTIMEZONE
BEGIN:VEVENT
UID:cb6b2870-95c8-4ce1-b875-e7e98b465b40
DTSTAMP:20260424T111209Z
DESCRIPTION:📸Speak Out Through Your Lens!\nBergen County teens are teaming 
 up for an awesome Photovoice project where your pictures tell the real sto
 ry about substance use in our communities.\nGot something to say? Snap it.
  Share it. Let your voice make an impact.
DTSTART;TZID=America/New_York:20260413T170000
DTEND;TZID=America/New_York:20260413T183000
LOCATION:Fairview Public Library\, 213 Anderson Avenue\, Fairview\, NJ 0702
 2 US
SUMMARY:Bergen County Youth Task Force
END:VEVENT
END:VCALENDAR
