BEGIN:VCALENDAR
VERSION:2.0
PRODID:-//www.tcadr.org//NONSGML kigkonsult.se iCalcreator 2.30.10//
CALSCALE:GREGORIAN
METHOD:PUBLISH
UID:8d628507-005d-4185-8ee0-7c59ef2b7291
X-WR-CALDESC:Explore youth substance use and behavioral health trends—from 
 high‑potency alcohol and cannabis to emerging substances like Kratom and A
 lani Nu. \nContinuing Education: CHES credits provided by Bergen County De
 partment of Health Services\nThis course as been approved for 1 credit hou
 rs  Licensing and Certification Renewal LCADC\, CADC\, MFT\, MFT- Permit\,
  LPC\, LAC LRC\, and re-certification for all certifications issued by the
  Certification Board of New Jersey.\nThis program will provide 1 professio
 nal development hour for educators. Provider Registration Number 1409.
X-WR-RELCALID:7a59fabbca433684ec8d1d5ef1618dca
X-WR-TIMEZONE:America/New_York
BEGIN:VTIMEZONE
TZID:America/New_York
BEGIN:STANDARD
TZNAME:EST
DTSTART:20251102T020000
TZOFFSETFROM:-0400
TZOFFSETTO:-0500
RDATE:20261101T020000
RDATE:20271107T020000
END:STANDARD
BEGIN:DAYLIGHT
TZNAME:EDT
DTSTART:20260308T020000
TZOFFSETFROM:-0500
TZOFFSETTO:-0400
RDATE:20270314T020000
END:DAYLIGHT
END:VTIMEZONE
BEGIN:VEVENT
UID:83768732-8817-4515-94b7-f0f42516af50
DTSTAMP:20260423T125018Z
DESCRIPTION:Explore youth substance use and behavioral health trends—from h
 igh‑potency alcohol and cannabis to emerging substances like Kratom and Al
 ani Nu. \nContinuing Education: CHES credits provided by Bergen County Dep
 artment of Health Services\nThis course as been approved for 1 credit hour
 s  Licensing and Certification Renewal LCADC\, CADC\, MFT\, MFT- Permit\, 
 LPC\, LAC LRC\, and re-certification for all certifications issued by the 
 Certification Board of New Jersey.\nThis program will provide 1 profession
 al development hour for educators. Provider Registration Number 1409.
DTSTART;TZID=America/New_York:20260514T190000
DTEND;TZID=America/New_York:20260514T200000
LOCATION:https://us06web.zoom.us/meeting/register/oCZ6hlmFQW-AKm8wGbCU9A
SUMMARY:Staying Ahead of the Curve: What's New\, What's next (Evening Sessi
 on)
END:VEVENT
END:VCALENDAR
