BEGIN:VCALENDAR
VERSION:2.0
PRODID:-//www.tcadr.org//NONSGML kigkonsult.se iCalcreator 2.30.10//
CALSCALE:GREGORIAN
METHOD:PUBLISH
UID:611587d2-f14e-4fea-b106-dc0d8943f0b6
X-WR-CALDESC:Explore youth substance use and behavioral health trends—from 
 high‑potency alcohol and cannabis to emerging substances like Kratom and A
 lani Nu. \nContinuing Education: CHES credits provided by Bergen County De
 partment of Health Services\nThis course as been approved for 1 credit hou
 rs  Licensing and Certification Renewal LCADC\, CADC\, MFT\, MFT- Permit\,
  LPC\, LAC LRC\, and re-certification for all certifications issued by the
  Certification Board of New Jersey.\nThis program will provide 1 professio
 nal development hour for educators. Provider Registration Number 1409.
X-WR-RELCALID:82f797f48c6b7addd02167e5bfa506ea
X-WR-TIMEZONE:America/New_York
BEGIN:VTIMEZONE
TZID:America/New_York
BEGIN:STANDARD
TZNAME:EST
DTSTART:20251102T020000
TZOFFSETFROM:-0400
TZOFFSETTO:-0500
RDATE:20261101T020000
RDATE:20271107T020000
END:STANDARD
BEGIN:DAYLIGHT
TZNAME:EDT
DTSTART:20260308T020000
TZOFFSETFROM:-0500
TZOFFSETTO:-0400
RDATE:20270314T020000
END:DAYLIGHT
END:VTIMEZONE
BEGIN:VEVENT
UID:b7429388-145d-424b-aac3-5bb2bae7fa4d
DTSTAMP:20260423T121654Z
DESCRIPTION:Explore youth substance use and behavioral health trends—from h
 igh‑potency alcohol and cannabis to emerging substances like Kratom and Al
 ani Nu. \nContinuing Education: CHES credits provided by Bergen County Dep
 artment of Health Services\nThis course as been approved for 1 credit hour
 s  Licensing and Certification Renewal LCADC\, CADC\, MFT\, MFT- Permit\, 
 LPC\, LAC LRC\, and re-certification for all certifications issued by the 
 Certification Board of New Jersey.\nThis program will provide 1 profession
 al development hour for educators. Provider Registration Number 1409.
DTSTART;TZID=America/New_York:20260514T120000
DTEND;TZID=America/New_York:20260514T130000
LOCATION:https://us06web.zoom.us/meeting/register/vr278eYCTwqEd3EHF41MMw
SUMMARY:Staying Ahead of the Curve: What's New\, What's next
END:VEVENT
END:VCALENDAR
