BEGIN:VCALENDAR
VERSION:2.0
PRODID:-//www.tcadr.org//NONSGML kigkonsult.se iCalcreator 2.30.10//
CALSCALE:GREGORIAN
METHOD:PUBLISH
UID:3416d51f-efa8-45d5-924f-2affa8de416e
X-WR-CALDESC:BCPC works to prevent underage drinking\, opioid misuse\, and 
 emerging drug trends through community strategies and collaboration. Month
 ly meetings: 3rd Thursday\, 10–11 AM. Open to all committed to a healthy\,
  drug-free Bergen County.
X-WR-RELCALID:c6924502d7b6ec0b890e0c2bee4f4af5
X-WR-TIMEZONE:America/New_York
BEGIN:VTIMEZONE
TZID:America/New_York
BEGIN:STANDARD
TZNAME:EST
DTSTART:20251102T020000
TZOFFSETFROM:-0400
TZOFFSETTO:-0500
RDATE:20261101T020000
RDATE:20271107T020000
END:STANDARD
BEGIN:DAYLIGHT
TZNAME:EDT
DTSTART:20260308T020000
TZOFFSETFROM:-0500
TZOFFSETTO:-0400
RDATE:20270314T020000
END:DAYLIGHT
END:VTIMEZONE
BEGIN:VEVENT
UID:5244c3f2-0ef9-4de1-8066-7c9a02e1a33b
DTSTAMP:20260423T140824Z
DESCRIPTION:BCPC works to prevent underage drinking\, opioid misuse\, and e
 merging drug trends through community strategies and collaboration. Monthl
 y meetings: 3rd Thursday\, 10–11 AM. Open to all committed to a healthy\, 
 drug-free Bergen County.
DTSTART;TZID=America/New_York:20260604T100000
DTEND;TZID=America/New_York:20260604T113000
LOCATION:
SUMMARY:Bergen County Prevention Coalition Meeting
END:VEVENT
END:VCALENDAR
