BEGIN:VCALENDAR
VERSION:2.0
PRODID:-//www.tcadr.org//NONSGML kigkonsult.se iCalcreator 2.30.10//
CALSCALE:GREGORIAN
METHOD:PUBLISH
UID:f02878be-f7fd-42fb-8200-179541c597e6
X-WR-CALDESC:Our agency is closed but the 24/7 hotline is open!
X-WR-RELCALID:b0f63a8b86930166f8d96ce574b99048
X-WR-TIMEZONE:America/New_York
BEGIN:VTIMEZONE
TZID:America/New_York
BEGIN:STANDARD
TZNAME:EST
DTSTART:20251102T020000
TZOFFSETFROM:-0400
TZOFFSETTO:-0500
RDATE:20261101T020000
RDATE:20271107T020000
END:STANDARD
BEGIN:DAYLIGHT
TZNAME:EDT
DTSTART:20260308T020000
TZOFFSETFROM:-0500
TZOFFSETTO:-0400
RDATE:20270314T020000
END:DAYLIGHT
END:VTIMEZONE
BEGIN:VEVENT
UID:bc36cd8b-b710-4c89-aa95-bb70e2eaea1d
DTSTAMP:20260423T155312Z
DESCRIPTION:Our agency is closed but the 24/7 hotline is open!
DTSTART;TZID=America/New_York:20260703T060000
DTEND;TZID=America/New_York:20260703T060001
LOCATION:
SUMMARY:Agency Closed/ Hotline Open
END:VEVENT
END:VCALENDAR
