BEGIN:VCALENDAR
VERSION:2.0
PRODID:-//www.tcadr.org//NONSGML kigkonsult.se iCalcreator 2.30.10//
CALSCALE:GREGORIAN
METHOD:PUBLISH
UID:f84499c4-c070-49ed-9cf9-716950c46deb
X-WR-CALDESC:The Bogota Advisory Committee on Substance Abuse (BACSA) is a 
 Bogota community coalition focused on preventing youth and adult substance
  use. Join us to promote awareness and prevention of tobacco\, marijuana\,
  and alcohol through education and collaboration.
X-WR-RELCALID:e59a066e8a686af92bb14b081a5472a4
X-WR-TIMEZONE:America/New_York
BEGIN:VTIMEZONE
TZID:America/New_York
BEGIN:STANDARD
TZNAME:EST
DTSTART:20251102T020000
TZOFFSETFROM:-0400
TZOFFSETTO:-0500
RDATE:20261101T020000
RDATE:20271107T020000
END:STANDARD
BEGIN:DAYLIGHT
TZNAME:EDT
DTSTART:20260308T020000
TZOFFSETFROM:-0500
TZOFFSETTO:-0400
RDATE:20270314T020000
END:DAYLIGHT
END:VTIMEZONE
BEGIN:VEVENT
UID:68329af3-9cfc-4e0a-b268-51ccb11bc164
DTSTAMP:20260423T172752Z
DESCRIPTION:The Bogota Advisory Committee on Substance Abuse (BACSA) is a B
 ogota community coalition focused on preventing youth and adult substance 
 use. Join us to promote awareness and prevention of tobacco\, marijuana\, 
 and alcohol through education and collaboration.
DTSTART;TZID=America/New_York:20260812T190000
DTEND;TZID=America/New_York:20260812T200000
LOCATION:https://us06web.zoom.us/meeting/register/XuwK9y6_S0-BKVCZ--c8gw#/
SUMMARY:BACSA General Meeting
END:VEVENT
END:VCALENDAR
