BEGIN:VCALENDAR
VERSION:2.0
PRODID:-//www.tcadr.org//NONSGML kigkonsult.se iCalcreator 2.30.10//
CALSCALE:GREGORIAN
METHOD:PUBLISH
UID:8a6d3d5e-e2e5-4fb0-b655-70caf27cf94f
X-WR-CALDESC:Our agency is closed but the 24/7 hotline is open!
X-WR-RELCALID:26d619929246aa5c3120dc311e41b2d4
X-WR-TIMEZONE:America/New_York
BEGIN:VTIMEZONE
TZID:America/New_York
BEGIN:STANDARD
TZNAME:EST
DTSTART:20251102T020000
TZOFFSETFROM:-0400
TZOFFSETTO:-0500
RDATE:20261101T020000
RDATE:20271107T020000
END:STANDARD
BEGIN:DAYLIGHT
TZNAME:EDT
DTSTART:20260308T020000
TZOFFSETFROM:-0500
TZOFFSETTO:-0400
RDATE:20270314T020000
END:DAYLIGHT
END:VTIMEZONE
BEGIN:VEVENT
UID:10bd8bd7-a0b8-4d68-af05-50a47f40ad49
DTSTAMP:20260423T191242Z
DESCRIPTION:Our agency is closed but the 24/7 hotline is open!
DTSTART;TZID=America/New_York:20260907T060000
DTEND;TZID=America/New_York:20260907T060001
LOCATION:
SUMMARY:Agency Closed/ Hotline Open
END:VEVENT
END:VCALENDAR
