BEGIN:VCALENDAR
VERSION:2.0
PRODID:-//www.tcadr.org//NONSGML kigkonsult.se iCalcreator 2.30.10//
CALSCALE:GREGORIAN
METHOD:PUBLISH
UID:a171134a-d233-4c30-9a16-e409a69bf7ce
X-WR-CALDESC:The Bogota Advisory Committee on Substance Abuse (BACSA) is a 
 Bogota community coalition focused on preventing youth and adult substance
  use. Join us to promote awareness and prevention of tobacco\, marijuana\,
  and alcohol through education and collaboration.
X-WR-RELCALID:c63c5ab1601e2034ee49a7a31874b848
X-WR-TIMEZONE:America/New_York
BEGIN:VTIMEZONE
TZID:America/New_York
BEGIN:STANDARD
TZNAME:EST
DTSTART:20251102T020000
TZOFFSETFROM:-0400
TZOFFSETTO:-0500
RDATE:20261101T020000
RDATE:20271107T020000
END:STANDARD
BEGIN:DAYLIGHT
TZNAME:EDT
DTSTART:20260308T020000
TZOFFSETFROM:-0500
TZOFFSETTO:-0400
RDATE:20270314T020000
RDATE:20280312T020000
END:DAYLIGHT
END:VTIMEZONE
BEGIN:VEVENT
UID:ad853ba6-8ae2-4160-b920-708a489d4333
DTSTAMP:20260423T204407Z
DESCRIPTION:The Bogota Advisory Committee on Substance Abuse (BACSA) is a B
 ogota community coalition focused on preventing youth and adult substance 
 use. Join us to promote awareness and prevention of tobacco\, marijuana\, 
 and alcohol through education and collaboration.
DTSTART;TZID=America/New_York:20261014T190000
DTEND;TZID=America/New_York:20261014T200000
LOCATION:https://us06web.zoom.us/meeting/register/XuwK9y6_S0-BKVCZ--c8gw#/
SUMMARY:BACSA General Meeting
END:VEVENT
END:VCALENDAR
