BEGIN:VCALENDAR
VERSION:2.0
PRODID:-//www.tcadr.org//NONSGML kigkonsult.se iCalcreator 2.30.10//
CALSCALE:GREGORIAN
METHOD:PUBLISH
UID:f215fcf7-8829-42a3-a809-b2294a4966b7
X-WR-CALDESC:The Bogota Advisory Committee on Substance Abuse (BACSA) is a 
 Bogota community coalition focused on preventing youth and adult substance
  use. Join us to promote awareness and prevention of tobacco\, marijuana\,
  and alcohol through education and collaboration.
X-WR-RELCALID:4003f2fd58bd67da92db9a7f6fe94f59
X-WR-TIMEZONE:America/New_York
BEGIN:VTIMEZONE
TZID:America/New_York
BEGIN:STANDARD
TZNAME:EST
DTSTART:20261101T020000
TZOFFSETFROM:-0400
TZOFFSETTO:-0500
RDATE:20271107T020000
END:STANDARD
BEGIN:DAYLIGHT
TZNAME:EDT
DTSTART:20260308T020000
TZOFFSETFROM:-0500
TZOFFSETTO:-0400
RDATE:20270314T020000
RDATE:20280312T020000
END:DAYLIGHT
END:VTIMEZONE
BEGIN:VEVENT
UID:5b1894c6-7ae1-478d-9c5a-fa6e05d260fc
DTSTAMP:20260424T000417Z
DESCRIPTION:The Bogota Advisory Committee on Substance Abuse (BACSA) is a B
 ogota community coalition focused on preventing youth and adult substance 
 use. Join us to promote awareness and prevention of tobacco\, marijuana\, 
 and alcohol through education and collaboration.
DTSTART;TZID=America/New_York:20261209T190000
DTEND;TZID=America/New_York:20261209T200000
LOCATION:https://us06web.zoom.us/meeting/register/XuwK9y6_S0-BKVCZ--c8gw#/
SUMMARY:BACSA General Meeting
END:VEVENT
END:VCALENDAR
