BEGIN:VCALENDAR
VERSION:2.0
PRODID:-//www.tcadr.org//NONSGML kigkonsult.se iCalcreator 2.30.10//
CALSCALE:GREGORIAN
METHOD:PUBLISH
UID:ce01486e-75bb-4a94-a397-dd478659f2df
X-WR-CALDESC:Our agency is closed but the 24/7 hotline is open!
X-WR-RELCALID:12cc4e0aa394a31b8637a23af70a97cf
X-WR-TIMEZONE:America/New_York
BEGIN:VTIMEZONE
TZID:America/New_York
BEGIN:STANDARD
TZNAME:EST
DTSTART:20261101T020000
TZOFFSETFROM:-0400
TZOFFSETTO:-0500
RDATE:20271107T020000
END:STANDARD
BEGIN:DAYLIGHT
TZNAME:EDT
DTSTART:20260308T020000
TZOFFSETFROM:-0500
TZOFFSETTO:-0400
RDATE:20270314T020000
RDATE:20280312T020000
END:DAYLIGHT
END:VTIMEZONE
BEGIN:VEVENT
UID:c2e9e2fa-0827-40d9-8973-80a10ce32041
DTSTAMP:20260424T000707Z
DESCRIPTION:Our agency is closed but the 24/7 hotline is open!
DTSTART;TZID=America/New_York:20261231T060000
DTEND;TZID=America/New_York:20270101T060001
LOCATION:
SUMMARY:Agency Closed/ Hotline Open
END:VEVENT
END:VCALENDAR
