BEGIN:VCALENDAR
VERSION:2.0
PRODID:-//www.tcadr.org//NONSGML kigkonsult.se iCalcreator 2.30.10//
CALSCALE:GREGORIAN
METHOD:PUBLISH
UID:718cc25d-c07f-4e1c-98cd-1262a180192a
X-WR-CALDESC:BCPC works to prevent underage drinking\, opioid misuse\, and 
 emerging drug trends through community strategies and collaboration. Month
 ly meetings: 3rd Thursday\, 10–11 AM. Open to all committed to a healthy\,
  drug-free Bergen County.
X-WR-RELCALID:cb3fec1745bc667a96a37b9dcc173a88
X-WR-TIMEZONE:America/New_York
BEGIN:VTIMEZONE
TZID:America/New_York
BEGIN:STANDARD
TZNAME:EST
DTSTART:20251102T020000
TZOFFSETFROM:-0400
TZOFFSETTO:-0500
RDATE:20261101T020000
END:STANDARD
BEGIN:DAYLIGHT
TZNAME:EDT
DTSTART:20250309T020000
TZOFFSETFROM:-0500
TZOFFSETTO:-0400
RDATE:20260308T020000
RDATE:20270314T020000
END:DAYLIGHT
END:VTIMEZONE
BEGIN:VEVENT
UID:cf67c32d-4c24-45d7-bf6d-ffc2e52e6a98
DTSTAMP:20260424T232625Z
DESCRIPTION:BCPC works to prevent underage drinking\, opioid misuse\, and e
 merging drug trends through community strategies and collaboration. Monthl
 y meetings: 3rd Thursday\, 10–11 AM. Open to all committed to a healthy\, 
 drug-free Bergen County.
DTSTART;TZID=America/New_York:20260219T100000
DTEND;TZID=America/New_York:20260219T113000
LOCATION:
SUMMARY:Bergen County Prevention Coalition Meeting
END:VEVENT
END:VCALENDAR
