BEGIN:VCALENDAR
VERSION:2.0
PRODID:-//www.tcadr.org//NONSGML kigkonsult.se iCalcreator 2.30.10//
CALSCALE:GREGORIAN
METHOD:PUBLISH
UID:fad85e7c-4308-4747-953e-d849481a9032
X-WR-CALDESC:Discover your strengths\, tell your story with confidence\, an
 d take the next step toward employment in our Resume Building & Interview 
 Skills Workshop\, designed specifically for individuals in recovery. This 
 supportive\, judgment-free workshop helps you create a professional resume
  that highlights your skills\, lived experience\, and readiness for the wo
 rkforce. \n\nWhether you're seeking your first job in recovery or explorin
 g a new career path\, this workshop gives you the tools\, practice\, and e
 ncouragement you need to move forward with clarity and confidence.\n\nMaxi
 mum 30 People. RSVP Required
X-WR-RELCALID:f40ec96d5cc2ad44cea6062fa61d73f8
X-WR-TIMEZONE:America/New_York
BEGIN:VTIMEZONE
TZID:America/New_York
BEGIN:STANDARD
TZNAME:EST
DTSTART:20251102T020000
TZOFFSETFROM:-0400
TZOFFSETTO:-0500
RDATE:20261101T020000
END:STANDARD
BEGIN:DAYLIGHT
TZNAME:EDT
DTSTART:20260308T020000
TZOFFSETFROM:-0500
TZOFFSETTO:-0400
RDATE:20270314T020000
END:DAYLIGHT
END:VTIMEZONE
BEGIN:VEVENT
UID:fe77c1c7-6d78-4b49-9dcb-1e0a9890eeac
DTSTAMP:20260424T220605Z
DESCRIPTION:Discover your strengths\, tell your story with confidence\, and
  take the next step toward employment in our Resume Building & Interview S
 kills Workshop\, designed specifically for individuals in recovery. This s
 upportive\, judgment-free workshop helps you create a professional resume 
 that highlights your skills\, lived experience\, and readiness for the wor
 kforce. \n\nWhether you're seeking your first job in recovery or exploring
  a new career path\, this workshop gives you the tools\, practice\, and en
 couragement you need to move forward with clarity and confidence.\n\nMaxim
 um 30 People. RSVP Required
DTSTART;TZID=America/New_York:20260316T130000
DTEND;TZID=America/New_York:20260316T143000
LOCATION:Hackensack Civic Center\, 215 State St\, Hackensack\, NJ 07601 US
SUMMARY:Resume Building and Interview Skills for People in Recovery
END:VEVENT
END:VCALENDAR
