BEGIN:VCALENDAR
VERSION:2.0
PRODID:-//www.tcadr.org//NONSGML kigkonsult.se iCalcreator 2.30.10//
CALSCALE:GREGORIAN
METHOD:PUBLISH
UID:0dcb1966-f77c-47c7-bea8-e86506e8fbbc
X-WR-CALDESC:BCPC works to prevent underage drinking\, opioid misuse\, and 
 emerging drug trends through community strategies and collaboration. Month
 ly meetings: 3rd Thursday\, 10–11 AM. Open to all committed to a healthy\,
  drug-free Bergen County.
X-WR-RELCALID:c77922007b8453aea89c19ef261573e3
X-WR-TIMEZONE:America/New_York
BEGIN:VTIMEZONE
TZID:America/New_York
BEGIN:STANDARD
TZNAME:EST
DTSTART:20251102T020000
TZOFFSETFROM:-0400
TZOFFSETTO:-0500
RDATE:20261101T020000
END:STANDARD
BEGIN:DAYLIGHT
TZNAME:EDT
DTSTART:20260308T020000
TZOFFSETFROM:-0500
TZOFFSETTO:-0400
RDATE:20270314T020000
END:DAYLIGHT
END:VTIMEZONE
BEGIN:VEVENT
UID:2b442dfd-f143-4dfd-abc5-17c050e5b2c5
DTSTAMP:20260424T220453Z
DESCRIPTION:BCPC works to prevent underage drinking\, opioid misuse\, and e
 merging drug trends through community strategies and collaboration. Monthl
 y meetings: 3rd Thursday\, 10–11 AM. Open to all committed to a healthy\, 
 drug-free Bergen County.
DTSTART;TZID=America/New_York:20260319T100000
DTEND;TZID=America/New_York:20260319T113000
LOCATION:https://teams.microsoft.com/meet/21755309339235?p=ohwtWbXh2ih8hqEp
 G6
SUMMARY:Bergen County Prevention Coalition Meeting
END:VEVENT
END:VCALENDAR
