BEGIN:VCALENDAR
VERSION:2.0
PRODID:-//www.tcadr.org//NONSGML kigkonsult.se iCalcreator 2.30.10//
CALSCALE:GREGORIAN
METHOD:PUBLISH
UID:13dd5a74-4f78-4994-ba71-82ee0e8c266b
X-WR-CALDESC:Learn about opioid settlement funding and how it can support e
 vidence based practices in your community
X-WR-RELCALID:38b2af2adf50983caa8a28b2c669e2a8
X-WR-TIMEZONE:America/New_York
BEGIN:VTIMEZONE
TZID:America/New_York
BEGIN:STANDARD
TZNAME:EST
DTSTART:20251102T020000
TZOFFSETFROM:-0400
TZOFFSETTO:-0500
RDATE:20261101T020000
END:STANDARD
BEGIN:DAYLIGHT
TZNAME:EDT
DTSTART:20260308T020000
TZOFFSETFROM:-0500
TZOFFSETTO:-0400
RDATE:20270314T020000
END:DAYLIGHT
END:VTIMEZONE
BEGIN:VEVENT
UID:5356d67a-763f-429e-8efe-20548f9b3570
DTSTAMP:20260424T220503Z
DESCRIPTION:Learn about opioid settlement funding and how it can support ev
 idence based practices in your community
DTSTART;TZID=America/New_York:20260330T130000
DTEND;TZID=America/New_York:20260330T150000
LOCATION:https://us02web.zoom.us/meeting/register/cxTA1-QUR2GPoLc7zTcMKA#/r
 egistration
SUMMARY:Opioid Settlement Webinar(State of NJ)
END:VEVENT
END:VCALENDAR
