BEGIN:VCALENDAR
VERSION:2.0
PRODID:-//www.tcadr.org//NONSGML kigkonsult.se iCalcreator 2.30.10//
CALSCALE:GREGORIAN
METHOD:PUBLISH
UID:8b03aaff-3bdc-4357-96c6-4abb91baf8ef
X-WR-CALDESC:The retail environment is a major channel used by Big Tobacco 
 to promote youth initiation and use of tobacco products. Point-of-sale str
 ategies enhance state and local tobacco control efforts. Implementing poli
 cies in your community will strengthen a comprehensive approach to combat 
 tobacco use rates among youth and adults.
X-WR-RELCALID:0a3d8eaa67c371fa4137649f43c92b9e
X-WR-TIMEZONE:America/New_York
BEGIN:VTIMEZONE
TZID:America/New_York
BEGIN:STANDARD
TZNAME:EST
DTSTART:20251102T020000
TZOFFSETFROM:-0400
TZOFFSETTO:-0500
RDATE:20261101T020000
END:STANDARD
BEGIN:DAYLIGHT
TZNAME:EDT
DTSTART:20260308T020000
TZOFFSETFROM:-0500
TZOFFSETTO:-0400
RDATE:20270314T020000
END:DAYLIGHT
END:VTIMEZONE
BEGIN:VEVENT
UID:54be2865-74f7-419f-af17-4743782b2bfd
DTSTAMP:20260424T220605Z
DESCRIPTION:The retail environment is a major channel used by Big Tobacco t
 o promote youth initiation and use of tobacco products. Point-of-sale stra
 tegies enhance state and local tobacco control efforts. Implementing polic
 ies in your community will strengthen a comprehensive approach to combat t
 obacco use rates among youth and adults.
DTSTART;TZID=America/New_York:20260331T100000
DTEND;TZID=America/New_York:20260331T130000
LOCATION:Hackensack Meridian Fitness & Wellness Center\, 87 NJ-17\, Maywood
 \, NJ 07607 US
SUMMARY:STOMP Conference
END:VEVENT
END:VCALENDAR
