BEGIN:VCALENDAR
VERSION:2.0
PRODID:-//www.tcadr.org//NONSGML kigkonsult.se iCalcreator 2.30.10//
CALSCALE:GREGORIAN
METHOD:PUBLISH
UID:d51fe4e4-f701-46d9-8f27-e3c68bb2d6aa
X-WR-CALDESC:Take the first step toward a smoke-free future. Learn more abo
 ut the health consequences of cigarette and vape usage—and proven medical 
 treatments and integrative health approaches to support you in quitting. O
 ur expert team will share practical tools\, personalized resources\, and n
 ext steps so you can move forward with confidence. Event will include an o
 pportunity for Q&A.
X-WR-RELCALID:86ed0f984b1a1dd8d3bffb49e106eb44
X-WR-TIMEZONE:America/New_York
BEGIN:VTIMEZONE
TZID:America/New_York
BEGIN:STANDARD
TZNAME:EST
DTSTART:20251102T020000
TZOFFSETFROM:-0400
TZOFFSETTO:-0500
RDATE:20261101T020000
END:STANDARD
BEGIN:DAYLIGHT
TZNAME:EDT
DTSTART:20260308T020000
TZOFFSETFROM:-0500
TZOFFSETTO:-0400
RDATE:20270314T020000
END:DAYLIGHT
END:VTIMEZONE
BEGIN:VEVENT
UID:f2cad887-242b-441e-a84e-91da35bf7f1a
DTSTAMP:20260420T083902Z
DESCRIPTION:Take the first step toward a smoke-free future. Learn more abou
 t the health consequences of cigarette and vape usage—and proven medical t
 reatments and integrative health approaches to support you in quitting. Ou
 r expert team will share practical tools\, personalized resources\, and ne
 xt steps so you can move forward with confidence. Event will include an op
 portunity for Q&A.
DTSTART;TZID=America/New_York:20260409T180000
DTEND;TZID=America/New_York:20260409T193000
LOCATION:Graf Center for Integrative Medicine - Englewood Hospital \, 350 E
 ngle Street (Berrie Center\, 5th Floor)\, Englewood\, NJ 07631 US
SUMMARY:Smoke Free Future
END:VEVENT
END:VCALENDAR
