BEGIN:VCALENDAR
VERSION:2.0
PRODID:-//www.tcadr.org//NONSGML kigkonsult.se iCalcreator 2.30.10//
CALSCALE:GREGORIAN
METHOD:PUBLISH
UID:b009be92-cf88-4727-bf39-627c32d33dde
X-WR-CALDESC:BCPC works to prevent underage drinking\, opioid misuse\, and 
 emerging drug trends through community strategies and collaboration. Month
 ly meetings: 3rd Thursday\, 10–11 AM. Open to all committed to a healthy\,
  drug-free Bergen County.
X-WR-RELCALID:be6ac45fe0cfb2d497d53c625c8292ea
X-WR-TIMEZONE:America/New_York
BEGIN:VTIMEZONE
TZID:America/New_York
BEGIN:STANDARD
TZNAME:EST
DTSTART:20251102T020000
TZOFFSETFROM:-0400
TZOFFSETTO:-0500
RDATE:20261101T020000
RDATE:20271107T020000
END:STANDARD
BEGIN:DAYLIGHT
TZNAME:EDT
DTSTART:20260308T020000
TZOFFSETFROM:-0500
TZOFFSETTO:-0400
RDATE:20270314T020000
RDATE:20280312T020000
END:DAYLIGHT
END:VTIMEZONE
BEGIN:VEVENT
UID:0c408421-3abe-42d8-adb6-740aef3ee3c1
DTSTAMP:20260425T034839Z
DESCRIPTION:BCPC works to prevent underage drinking\, opioid misuse\, and e
 merging drug trends through community strategies and collaboration. Monthl
 y meetings: 3rd Thursday\, 10–11 AM. Open to all committed to a healthy\, 
 drug-free Bergen County.
DTSTART;TZID=America/New_York:20260917T100000
DTEND;TZID=America/New_York:20260917T113000
LOCATION:
SUMMARY:Bergen County Prevention Coalition Meeting
END:VEVENT
END:VCALENDAR
