BEGIN:VCALENDAR
VERSION:2.0
PRODID:-//www.tcadr.org//NONSGML kigkonsult.se iCalcreator 2.30.10//
CALSCALE:GREGORIAN
METHOD:PUBLISH
UID:fe53dbe2-be9a-46d5-9a89-0ac826a19fc4
X-WR-CALDESC:Join us for 12 two-hour sessions that help parents build stron
 g\, loving connections with their children from infancy through adolescenc
 e. Participants gain confidence\, improve parent-child relationships\, and
  learn practical skills for every stage of development. The program is rec
 ognized countywide and statewide for being cost-efficient\, results-orient
 ed\, and parent-friendly. A certificate of completion is awarded at the en
 d of the series.\n\n**Program cost is $300. Scholarships are available for
  Bergen County residents.**
X-WR-RELCALID:786d9c5055cd82f2151bcd5fa0e98a76
X-WR-TIMEZONE:America/New_York
BEGIN:VTIMEZONE
TZID:America/New_York
BEGIN:STANDARD
TZNAME:EST
DTSTART:20251102T020000
TZOFFSETFROM:-0400
TZOFFSETTO:-0500
RDATE:20261101T020000
END:STANDARD
BEGIN:DAYLIGHT
TZNAME:EDT
DTSTART:20260308T020000
TZOFFSETFROM:-0500
TZOFFSETTO:-0400
RDATE:20270314T020000
END:DAYLIGHT
END:VTIMEZONE
BEGIN:VEVENT
UID:8b3a55e9-d8f5-45b0-896e-01a61d401465
DTSTAMP:20260421T124609Z
DESCRIPTION:Join us for 12 two-hour sessions that help parents build strong
 \, loving connections with their children from infancy through adolescence
 . Participants gain confidence\, improve parent-child relationships\, and 
 learn practical skills for every stage of development. The program is reco
 gnized countywide and statewide for being cost-efficient\, results-oriente
 d\, and parent-friendly. A certificate of completion is awarded at the end
  of the series.\n\n**Program cost is $300. Scholarships are available for 
 Bergen County residents.**
DTSTART;TZID=America/New_York:20260422T190000
DTEND;TZID=America/New_York:20260422T210000
LOCATION:Microsoft Teams
SUMMARY:Every Parent Influences Children (EPIC) Parenting Program (Spring C
 ycle)
END:VEVENT
END:VCALENDAR
