BEGIN:VCALENDAR
VERSION:2.0
PRODID:-//www.tcadr.org//NONSGML kigkonsult.se iCalcreator 2.30.10//
CALSCALE:GREGORIAN
METHOD:PUBLISH
UID:43b70d11-6637-4594-9360-3dac02068155
X-WR-CALDESC:BCPC works to prevent underage drinking\, opioid misuse\, and 
 emerging drug trends through community strategies and collaboration. Month
 ly meetings: 3rd Thursday\, 10–11 AM. Open to all committed to a healthy\,
  drug-free Bergen County.
X-WR-RELCALID:8da5b04993a61fc0967dfc55e08b3322
X-WR-TIMEZONE:America/New_York
BEGIN:VTIMEZONE
TZID:America/New_York
BEGIN:STANDARD
TZNAME:EST
DTSTART:20251102T020000
TZOFFSETFROM:-0400
TZOFFSETTO:-0500
RDATE:20261101T020000
END:STANDARD
BEGIN:DAYLIGHT
TZNAME:EDT
DTSTART:20260308T020000
TZOFFSETFROM:-0500
TZOFFSETTO:-0400
RDATE:20270314T020000
END:DAYLIGHT
END:VTIMEZONE
BEGIN:VEVENT
UID:d4bec6e7-3e7c-44af-a0ab-5d099099862c
DTSTAMP:20260421T123859Z
DESCRIPTION:BCPC works to prevent underage drinking\, opioid misuse\, and e
 merging drug trends through community strategies and collaboration. Monthl
 y meetings: 3rd Thursday\, 10–11 AM. Open to all committed to a healthy\, 
 drug-free Bergen County.
DTSTART;TZID=America/New_York:20260423T100000
DTEND;TZID=America/New_York:20260423T113000
LOCATION:
SUMMARY:Bergen County Prevention Coalition Meeting
END:VEVENT
END:VCALENDAR
